BEGIN:VCALENDAR
VERSION:2.0
PRODID:-//Providence Presbyterian Church - ECPv6.15.18//NONSGML v1.0//EN
CALSCALE:GREGORIAN
METHOD:PUBLISH
X-ORIGINAL-URL:https://www.providencechurch.org
X-WR-CALDESC:Events for Providence Presbyterian Church
REFRESH-INTERVAL;VALUE=DURATION:PT1H
X-Robots-Tag:noindex
X-PUBLISHED-TTL:PT1H
BEGIN:VTIMEZONE
TZID:America/New_York
BEGIN:DAYLIGHT
TZOFFSETFROM:-0500
TZOFFSETTO:-0400
TZNAME:EDT
DTSTART:20240310T070000
END:DAYLIGHT
BEGIN:STANDARD
TZOFFSETFROM:-0400
TZOFFSETTO:-0500
TZNAME:EST
DTSTART:20241103T060000
END:STANDARD
BEGIN:DAYLIGHT
TZOFFSETFROM:-0500
TZOFFSETTO:-0400
TZNAME:EDT
DTSTART:20250309T070000
END:DAYLIGHT
BEGIN:STANDARD
TZOFFSETFROM:-0400
TZOFFSETTO:-0500
TZNAME:EST
DTSTART:20251102T060000
END:STANDARD
BEGIN:DAYLIGHT
TZOFFSETFROM:-0500
TZOFFSETTO:-0400
TZNAME:EDT
DTSTART:20260308T070000
END:DAYLIGHT
BEGIN:STANDARD
TZOFFSETFROM:-0400
TZOFFSETTO:-0500
TZNAME:EST
DTSTART:20261101T060000
END:STANDARD
BEGIN:DAYLIGHT
TZOFFSETFROM:-0500
TZOFFSETTO:-0400
TZNAME:EDT
DTSTART:20270314T070000
END:DAYLIGHT
BEGIN:STANDARD
TZOFFSETFROM:-0400
TZOFFSETTO:-0500
TZNAME:EST
DTSTART:20271107T060000
END:STANDARD
END:VTIMEZONE
BEGIN:VEVENT
DTSTART;TZID=America/New_York:20260412T150000
DTEND;TZID=America/New_York:20260412T170000
DTSTAMP:20260421T063831
CREATED:20260326T163721Z
LAST-MODIFIED:20260326T163833Z
UID:10001839-1776006000-1776013200@www.providencechurch.org
SUMMARY:Board Game Meetup
DESCRIPTION:Looking for a fun way to unwind and connect with others? Come to the parlor for an exciting afternoon of board games!  Whether you’re a seasoned player or just want to learn something new\, 4 years old or 104\, there’s a game for everyone. Bring your favorite game or try out one of ours! 
URL:https://www.providencechurch.org/event/board-game-meetup/2026-04-12/
LOCATION:Providence Presbyterian Church\, 9019 Little River Turnpike\, Fairfax\, VA\, 22031
ATTACH;FMTTYPE=image/png:https://www.providencechurch.org/wp-content/uploads/2026/03/4-05-2026-Live-Stream-Promos-Events.png
END:VEVENT
BEGIN:VEVENT
DTSTART;TZID=America/New_York:20260405T113000
DTEND;TZID=America/New_York:20260405T123000
DTSTAMP:20260421T063831
CREATED:20260330T194242Z
LAST-MODIFIED:20260330T194242Z
UID:10001901-1775388600-1775392200@www.providencechurch.org
SUMMARY:Easter Brunch
DESCRIPTION:Immediately following Easter worship. \nClick the link to sign up!
URL:https://www.providencechurch.org/event/easter-brunch/
LOCATION:Providence Presbyterian Church\, 9019 Little River Turnpike\, Fairfax\, VA\, 22031
END:VEVENT
BEGIN:VEVENT
DTSTART;TZID=America/New_York:20260405T100000
DTEND;TZID=America/New_York:20260405T110000
DTSTAMP:20260421T063831
CREATED:20260330T193813Z
LAST-MODIFIED:20260330T193813Z
UID:10001900-1775383200-1775386800@www.providencechurch.org
SUMMARY:Easter Worship
DESCRIPTION:Easter Worship followed by brunch. \nAll are welcome to celebrate!
URL:https://www.providencechurch.org/event/easter-worship/
LOCATION:Providence Presbyterian Church\, 9019 Little River Turnpike\, Fairfax\, VA\, 22031
ATTACH;FMTTYPE=image/png:https://www.providencechurch.org/wp-content/uploads/2026/03/4-5.png
END:VEVENT
BEGIN:VEVENT
DTSTART;TZID=America/New_York:20260402T193000
DTEND;TZID=America/New_York:20260402T203000
DTSTAMP:20260421T063831
CREATED:20260330T193410Z
LAST-MODIFIED:20260330T193410Z
UID:10001899-1775158200-1775161800@www.providencechurch.org
SUMMARY:Maundy Thursday Tenebrae Service
DESCRIPTION:
URL:https://www.providencechurch.org/event/maundy-thursday-tenebrae-service-3/
LOCATION:Providence Presbyterian Church\, 9019 Little River Turnpike\, Fairfax\, VA\, 22031
ATTACH;FMTTYPE=image/png:https://www.providencechurch.org/wp-content/uploads/2026/03/3-Tenebrae.png
END:VEVENT
BEGIN:VEVENT
DTSTART;TZID=America/New_York:20260315T150000
DTEND;TZID=America/New_York:20260315T163000
DTSTAMP:20260421T063831
CREATED:20260302T164516Z
LAST-MODIFIED:20260302T164516Z
UID:10001838-1773586800-1773592200@www.providencechurch.org
SUMMARY:Providence Readers
DESCRIPTION:Providence Readers will gather on March 15 from 3:00  to 4:30 pm in Room 206 to discuss Women of the Post by Joshunda Sanders. This historical fiction focuses on the real-life 6888th Central Postal Directory Battalion\, the only all-Black\, female U.S. Army unit to serve overseas during WWII. It follows several women who\, in 1944\, travel to Europe to sort over a million pieces of backlogged mail\, overcoming racism\, sexism\, and intense working conditions while forging deep friendships.  \nProvidence Readers meets on the third Sunday of most months and is open to all. Stop by whenever the book or topic interests you!
URL:https://www.providencechurch.org/event/providence-readers-8/
LOCATION:Providence Presbyterian Church\, 9019 Little River Turnpike\, Fairfax\, VA\, 22031
ATTACH;FMTTYPE=image/png:https://www.providencechurch.org/wp-content/uploads/2026/03/10-Readers.png
END:VEVENT
BEGIN:VEVENT
DTSTART;TZID=America/New_York:20260309T193000
DTEND;TZID=America/New_York:20260309T203000
DTSTAMP:20260421T063831
CREATED:20260217T155037Z
LAST-MODIFIED:20260217T155330Z
UID:10001835-1773084600-1773088200@www.providencechurch.org
SUMMARY:Lent in Tumultuous Times
DESCRIPTION:Join Reverend Mary Rodgers as she leads Lent in Tumultuous Times\, a four-week conversation exploring four themes that resonate deeply with life right now: Wilderness\, Longing\, Confession and Healing. The group will wrestle with big questions\, sit with honest emotions\, and explore how ancient spiritual wisdom can speak to modern challenges. Each session will include thought-provoking readings\, open discussion\, and space for reflection.
URL:https://www.providencechurch.org/event/lent-in-tumultuous-times/2026-03-09/
LOCATION:Providence Presbyterian Church\, 9019 Little River Turnpike\, Fairfax\, VA\, 22031
ATTACH;FMTTYPE=image/png:https://www.providencechurch.org/wp-content/uploads/2026/02/Lent-class-2026.png
END:VEVENT
BEGIN:VEVENT
DTSTART;TZID=America/New_York:20260301T173000
DTEND;TZID=America/New_York:20260301T193000
DTSTAMP:20260421T063831
CREATED:20260206T151233Z
LAST-MODIFIED:20260206T151233Z
UID:10001832-1772386200-1772393400@www.providencechurch.org
SUMMARY:Breaking of the Fast with ATFA
DESCRIPTION:Breaking of the Fast (Iftar) with ATFA \nSunday\, March 1\n5:30-7:30 pm in Taylor Hall\nRSVP by February 22 \nJoin us as we host our ATFA friends as they break their fast (Iftar).\nWe will share a meal and traditions\, build friendships\, and celebrate community in America’s 250th year. \nOur Turkish friends are generously providing the food; all of us will bring the fun and fellowship!
URL:https://www.providencechurch.org/event/breaking-of-the-fast-with-atfa/
LOCATION:Providence Presbyterian Church\, 9019 Little River Turnpike\, Fairfax\, VA\, 22031
ATTACH;FMTTYPE=image/png:https://www.providencechurch.org/wp-content/uploads/2026/02/9-ATFA.png
END:VEVENT
BEGIN:VEVENT
DTSTART;TZID=America/New_York:20260223T193000
DTEND;TZID=America/New_York:20260223T203000
DTSTAMP:20260421T063831
CREATED:20260217T155037Z
LAST-MODIFIED:20260217T155330Z
UID:10001834-1771875000-1771878600@www.providencechurch.org
SUMMARY:Lent in Tumultuous Times
DESCRIPTION:Join Reverend Mary Rodgers as she leads Lent in Tumultuous Times\, a four-week conversation exploring four themes that resonate deeply with life right now: Wilderness\, Longing\, Confession and Healing. The group will wrestle with big questions\, sit with honest emotions\, and explore how ancient spiritual wisdom can speak to modern challenges. Each session will include thought-provoking readings\, open discussion\, and space for reflection.
URL:https://www.providencechurch.org/event/lent-in-tumultuous-times/2026-02-23/
LOCATION:Providence Presbyterian Church\, 9019 Little River Turnpike\, Fairfax\, VA\, 22031
ATTACH;FMTTYPE=image/png:https://www.providencechurch.org/wp-content/uploads/2026/02/Lent-class-2026.png
END:VEVENT
BEGIN:VEVENT
DTSTART;TZID=America/New_York:20260222T123000
DTEND;TZID=America/New_York:20260222T143000
DTSTAMP:20260421T063831
CREATED:20260202T163711Z
LAST-MODIFIED:20260203T205531Z
UID:10001825-1771763400-1771770600@www.providencechurch.org
SUMMARY:Rise Against Hunger
DESCRIPTION:Rise Against Hunger Meal Packaging Event \nSunday\, February 22\, 12:30-2:30 pm\nRegister by February 8 \nQuestion: Why is Rise Against Hunger one of our church’s favorite missions? \nAnswer: Because it provides thousands of nutritious meals wherever the need is greatest\, EVERYONE can participate\, and it’s fun to see your friends in\nhairnets! Whether you’re 9 or 90\, a whole family or flying solo\, need to burn off some extra energy or take it easy\, there is a job for you at the Rise Against Hunger event. \nThe Mission Committee will provide pizza and drinks to fuel everyone up for a busy and fun-filled afternoon as we pack as many meals as we can before the final gong.
URL:https://www.providencechurch.org/event/rise-against-hunger-3/
LOCATION:Providence Presbyterian Church\, 9019 Little River Turnpike\, Fairfax\, VA\, 22031
ATTACH;FMTTYPE=image/png:https://www.providencechurch.org/wp-content/uploads/2026/02/Slide6.png
END:VEVENT
BEGIN:VEVENT
DTSTART;TZID=America/New_York:20260218T193000
DTEND;TZID=America/New_York:20260218T203000
DTSTAMP:20260421T063831
CREATED:20260212T164503Z
LAST-MODIFIED:20260212T164503Z
UID:10001833-1771443000-1771446600@www.providencechurch.org
SUMMARY:Ash Wednesday Service
DESCRIPTION:
URL:https://www.providencechurch.org/event/ash-wednesday-service-4/
LOCATION:Providence Presbyterian Church\, 9019 Little River Turnpike\, Fairfax\, VA\, 22031
ATTACH;FMTTYPE=image/png:https://www.providencechurch.org/wp-content/uploads/2026/02/11-Ash-Wednesday.png
END:VEVENT
BEGIN:VEVENT
DTSTART;TZID=America/New_York:20260208T093000
DTEND;TZID=America/New_York:20260208T124500
DTSTAMP:20260421T063831
CREATED:20260203T163909Z
LAST-MODIFIED:20260203T164524Z
UID:10001831-1770543000-1770554700@www.providencechurch.org
SUMMARY:Bake Sale to Support Rise Against Hunger
DESCRIPTION:The Bake-Off is ON!\nIn Support of Rise Against Hunger\nSunday\, February 8\, 9:30 am to 12:45 pm\nShop for baked goods and other food items of all varieties—sweet and savory!  All monetary donations will support the Providence Rise Against Hunger meal packing event\, one of our most important and successful missions!   \nWomen will face off against the men\, so support your team of choice by bringing — and buying! — lots of baked goods.
URL:https://www.providencechurch.org/event/bake-sale-to-support-rise-against-hunger/
LOCATION:Providence Presbyterian Church\, 9019 Little River Turnpike\, Fairfax\, VA\, 22031
ATTACH;FMTTYPE=image/png:https://www.providencechurch.org/wp-content/uploads/2026/02/Slide5.png
END:VEVENT
BEGIN:VEVENT
DTSTART;TZID=America/New_York:20251224T210000
DTEND;TZID=America/New_York:20251224T220000
DTSTAMP:20260421T063831
CREATED:20251202T204308Z
LAST-MODIFIED:20251202T204308Z
UID:10001760-1766610000-1766613600@www.providencechurch.org
SUMMARY:Lessons & Carols with Choir
DESCRIPTION:
URL:https://www.providencechurch.org/event/lessons-carols-with-choir/
LOCATION:Providence Presbyterian Church\, 9019 Little River Turnpike\, Fairfax\, VA\, 22031
ATTACH;FMTTYPE=image/png:https://www.providencechurch.org/wp-content/uploads/2025/12/Slide9.png
END:VEVENT
BEGIN:VEVENT
DTSTART;TZID=America/New_York:20251224T173000
DTEND;TZID=America/New_York:20251224T183000
DTSTAMP:20260421T063831
CREATED:20251202T204050Z
LAST-MODIFIED:20251202T204050Z
UID:10001759-1766597400-1766601000@www.providencechurch.org
SUMMARY:Family Christmas Eve Service
DESCRIPTION:
URL:https://www.providencechurch.org/event/family-christmas-eve-service/
LOCATION:Providence Presbyterian Church\, 9019 Little River Turnpike\, Fairfax\, VA\, 22031
ATTACH;FMTTYPE=image/png:https://www.providencechurch.org/wp-content/uploads/2025/12/Slide8.png
END:VEVENT
BEGIN:VEVENT
DTSTART;TZID=America/New_York:20251215T193000
DTEND;TZID=America/New_York:20251215T203000
DTSTAMP:20260421T063831
CREATED:20251202T195233Z
LAST-MODIFIED:20251202T195233Z
UID:10001758-1765827000-1765830600@www.providencechurch.org
SUMMARY:Waiting in Wonder: Music & Reflections for Advent
DESCRIPTION:A contemplative service of music\, readings\, and periods of silence.
URL:https://www.providencechurch.org/event/waiting-in-wonder-music-reflections-for-advent/
LOCATION:Providence Presbyterian Church\, 9019 Little River Turnpike\, Fairfax\, VA\, 22031
ATTACH;FMTTYPE=image/png:https://www.providencechurch.org/wp-content/uploads/2025/12/6-Advent-Service.png
END:VEVENT
BEGIN:VEVENT
DTSTART;TZID=America/New_York:20251214T100000
DTEND;TZID=America/New_York:20251214T110000
DTSTAMP:20260421T063831
CREATED:20251202T194355Z
LAST-MODIFIED:20251212T194608Z
UID:10001756-1765706400-1765710000@www.providencechurch.org
SUMMARY:Traditional Worship
DESCRIPTION:
URL:https://www.providencechurch.org/event/special-music-sunday-2/
LOCATION:Providence Presbyterian Church\, 9019 Little River Turnpike\, Fairfax\, VA\, 22031
ATTACH;FMTTYPE=image/png:https://www.providencechurch.org/wp-content/uploads/2022/09/Traditional-image.png
END:VEVENT
BEGIN:VEVENT
DTSTART;TZID=America/New_York:20251206T123000
DTEND;TZID=America/New_York:20251206T140000
DTSTAMP:20260421T063831
CREATED:20251118T224356Z
LAST-MODIFIED:20251118T224356Z
UID:10001754-1765024200-1765029600@www.providencechurch.org
SUMMARY:Advent Festival
DESCRIPTION:Advent Festival- Saturday December 6\, 12:30-2pm \nCome on out for an afternoon of holiday fun and fellowship! Bloom and Brew Coffee Truck will be on site and providing a FREE hot cocoa for each kid (and will have specialty coffees for sale)! We’ll also have FREE popcorn and s’mores! Plus crafts\, caroling\, yard games\, fire pits\, an inflatable and more!
URL:https://www.providencechurch.org/event/advent-festival-4/
LOCATION:Providence Presbyterian Church\, 9019 Little River Turnpike\, Fairfax\, VA\, 22031
CATEGORIES:Featured Event,Live,Next Gen
ATTACH;FMTTYPE=image/png:https://www.providencechurch.org/wp-content/uploads/2025/11/Advent-Festival-Banner2025-scaled.png
END:VEVENT
BEGIN:VEVENT
DTSTART;TZID=America/New_York:20251116T173000
DTEND;TZID=America/New_York:20251116T190000
DTSTAMP:20260421T063831
CREATED:20251114T204924Z
LAST-MODIFIED:20251114T204924Z
UID:10001753-1763314200-1763319600@www.providencechurch.org
SUMMARY:Next Gen Friendsgiving!
DESCRIPTION:Calling all Next Gen families and volunteers!\nFriendsgiving is from 5:30 to 7:00 pm on the church porch.  \nEnjoy:\n—Fellowship\n—Dessert\n—Yard Games\n—Hot cider and chili \nPlease bring a dessert to share and a chair (if you want to sit by the fire.)
URL:https://www.providencechurch.org/event/next-gen-friendsgiving/
LOCATION:Providence Presbyterian Church\, 9019 Little River Turnpike\, Fairfax\, VA\, 22031
ATTACH;FMTTYPE=image/png:https://www.providencechurch.org/wp-content/uploads/2025/11/unnamed.png
ORGANIZER;CN="Paige Bach":MAILTO:paige@providencechurch.org
END:VEVENT
BEGIN:VEVENT
DTSTART;TZID=America/New_York:20251116T150000
DTEND;TZID=America/New_York:20251116T163000
DTSTAMP:20260421T063831
CREATED:20251107T173620Z
LAST-MODIFIED:20251107T173620Z
UID:10001750-1763305200-1763310600@www.providencechurch.org
SUMMARY:Providence Readers
DESCRIPTION:Providence Readers will meet  at 3:00 pm on November 16 in the Parlor to discuss How to Know a Person by David Brooks. The book is a profound exploration of human connection and the empathy required to truly understand others. Brooks\, blending philosophical insights with personal stories\, offers readers guidance on building more meaningful relationships.  In January\, we’ll discuss Remarkably Bright Creatures by Shelby Van Pelt.  \nProvidence Readers meets on the third Sunday of most months in the Parlor from 3:00 – 4:30 pm and is open to all. Stop by whenever the book or topic interests you.
URL:https://www.providencechurch.org/event/providence-readers-7/
LOCATION:Providence Presbyterian Church\, 9019 Little River Turnpike\, Fairfax\, VA\, 22031
ATTACH;FMTTYPE=image/png:https://www.providencechurch.org/wp-content/uploads/2025/11/5-Readers.png
END:VEVENT
BEGIN:VEVENT
DTSTART;TZID=America/New_York:20251019T153000
DTEND;TZID=America/New_York:20251019T170000
DTSTAMP:20260421T063831
CREATED:20250915T202906Z
LAST-MODIFIED:20250915T202906Z
UID:10001745-1760887800-1760893200@www.providencechurch.org
SUMMARY:Who Gets to Vote? A Historical Re-enactment
DESCRIPTION:Join as we watch Lynne Garvey-Hodge\, a historic re-enactor\, portray a suffragist in 1917 who was arrested and incarcerated for demanding the right for women to vote . An engaging presenter\, Ms. Garvey Hodge brings this struggle to life!  Kids and youth are welcome to attend as well.  The event is on October 19\, at 3:30 pm in Taylor Hall. You can sign up with the link below or email Revmary@providencechurch.org. Sign-up: https://bit.ly/4pdKO2h
URL:https://www.providencechurch.org/event/who-gets-to-vote-a-historical-re-enactment/
LOCATION:Providence Presbyterian Church\, 9019 Little River Turnpike\, Fairfax\, VA\, 22031
ATTACH;FMTTYPE=image/png:https://www.providencechurch.org/wp-content/uploads/2025/09/10-Suffragist.png
END:VEVENT
BEGIN:VEVENT
DTSTART;TZID=America/New_York:20251006T170000
DTEND;TZID=America/New_York:20251006T190000
DTSTAMP:20260421T063831
CREATED:20250812T230752Z
LAST-MODIFIED:20250830T154937Z
UID:10001584-1759770000-1759777200@www.providencechurch.org
SUMMARY:Food Truck Hangout-- DC Me Rollin
DESCRIPTION:Tired of figuring out what’s for dinner? We’ve got you.\nWe know weeknights are stressful and you’ve got a lot to figure out\, so we’re inviting all of our neighbors to dinner. Come as you are—with a friend\, with your family or just bring yourself. We’ll have DC Me Rollin food trunk ready to serve you!\nOctober 6th\, 5-7pmRain or Shine!\nDC Me Rollin Food Truckhttps://dc-me-rollin-llc.square.site/full-menu\nFREE drinks and cookies\nOpen Playground + Lawn Games\n@ Providence Presbyterian Church!
URL:https://www.providencechurch.org/event/food-truck-hangout-dc-me-rollin/
LOCATION:Providence Presbyterian Church\, 9019 Little River Turnpike\, Fairfax\, VA\, 22031
CATEGORIES:Featured Event,Next Gen
ATTACH;FMTTYPE=image/png:https://www.providencechurch.org/wp-content/uploads/2025/08/October-FTH.png
END:VEVENT
BEGIN:VEVENT
DTSTART;TZID=America/New_York:20251006T100000
DTEND;TZID=America/New_York:20251006T120000
DTSTAMP:20260421T063831
CREATED:20250915T202515Z
LAST-MODIFIED:20250916T185049Z
UID:10001744-1759744800-1759752000@www.providencechurch.org
SUMMARY:Get Out and Vote Postcard Writing Campaign
DESCRIPTION:In partnership with the Virginia Interfaith Center for Public Policy\, the Mission and Adult Ministry Committees are creating an opportunity for you to encourage fellow residents of Virginia to exercise their precious right to vote in the upcoming statewide general election. We will have everything you need!  There are two opportunities to participate: Sunday\, October 5\, at 4:00-5:30 pm in Taylor Hall\, or Monday\, October 6\, 10:00 am -12:00 pm in the Parlor. You can sign up at https://bit.ly/3VbKNxR or email Revmary@providencechurch.org.
URL:https://www.providencechurch.org/event/get-out-and-vote-post-card-writing-campaign/2025-10-06/
LOCATION:Providence Presbyterian Church\, 9019 Little River Turnpike\, Fairfax\, VA\, 22031
ATTACH;FMTTYPE=image/png:https://www.providencechurch.org/wp-content/uploads/2025/09/8-Postcard-Writing.png
END:VEVENT
BEGIN:VEVENT
DTSTART;TZID=America/New_York:20251005T160000
DTEND;TZID=America/New_York:20251005T173000
DTSTAMP:20260421T063831
CREATED:20250915T202515Z
LAST-MODIFIED:20250916T185049Z
UID:10001743-1759680000-1759685400@www.providencechurch.org
SUMMARY:Get Out and Vote Postcard Writing Campaign
DESCRIPTION:In partnership with the Virginia Interfaith Center for Public Policy\, the Mission and Adult Ministry Committees are creating an opportunity for you to encourage fellow residents of Virginia to exercise their precious right to vote in the upcoming statewide general election. We will have everything you need!  There are two opportunities to participate: Sunday\, October 5\, at 4:00-5:30 pm in Taylor Hall\, or Monday\, October 6\, 10:00 am -12:00 pm in the Parlor. You can sign up at https://bit.ly/3VbKNxR or email Revmary@providencechurch.org.
URL:https://www.providencechurch.org/event/get-out-and-vote-post-card-writing-campaign/2025-10-05/
LOCATION:Providence Presbyterian Church\, 9019 Little River Turnpike\, Fairfax\, VA\, 22031
ATTACH;FMTTYPE=image/png:https://www.providencechurch.org/wp-content/uploads/2025/09/8-Postcard-Writing.png
END:VEVENT
BEGIN:VEVENT
DTSTART;TZID=America/New_York:20250928T140000
DTEND;TZID=America/New_York:20250928T160000
DTSTAMP:20260421T063831
CREATED:20250915T203632Z
LAST-MODIFIED:20250916T142423Z
UID:10001746-1759068000-1759075200@www.providencechurch.org
SUMMARY:"A Place Called Ilda" Walking Tour
DESCRIPTION:Back by popular demand! Join Tom Shoop\, author of A Place Called Ilda Race and Resilience At A Northern Virginia Crossroads\, as we visit locations near our church related to the lost Black community of Ilda. (There will be options for walking and driving.) Meet in the Providence parking lot on Sunday\, September 28\, at 2:00 pm. You can sign up at https://bit.ly/42ilm1w or email Revmary@providencechurch.org.
URL:https://www.providencechurch.org/event/a-place-called-ilda-walking-tour/
LOCATION:Providence Presbyterian Church\, 9019 Little River Turnpike\, Fairfax\, VA\, 22031
ATTACH;FMTTYPE=image/png:https://www.providencechurch.org/wp-content/uploads/2025/09/7-Walking-Tour.png
END:VEVENT
BEGIN:VEVENT
DTSTART;TZID=America/New_York:20250907T100000
DTEND;TZID=America/New_York:20250907T110000
DTSTAMP:20260421T063831
CREATED:20250828T200823Z
LAST-MODIFIED:20250828T200823Z
UID:10001573-1757239200-1757242800@www.providencechurch.org
SUMMARY:Summer Worship 2025
DESCRIPTION:Join us in the Sanctuary for Summer Worship on Sundays at 10:00 am. The service is also live streamed on our YouTube Channel.
URL:https://www.providencechurch.org/event/summer-worship-2-2/2025-09-07/
LOCATION:Providence Presbyterian Church\, 9019 Little River Turnpike\, Fairfax\, VA\, 22031
ATTACH;FMTTYPE=image/png:https://www.providencechurch.org/wp-content/uploads/2025/04/Summer-Worship-event-2.png
END:VEVENT
BEGIN:VEVENT
DTSTART;TZID=America/New_York:20250831T100000
DTEND;TZID=America/New_York:20250831T110000
DTSTAMP:20260421T063831
CREATED:20250828T200823Z
LAST-MODIFIED:20250828T200823Z
UID:10001572-1756634400-1756638000@www.providencechurch.org
SUMMARY:Summer Worship 2025
DESCRIPTION:Join us in the Sanctuary for Summer Worship on Sundays at 10:00 am. The service is also live streamed on our YouTube Channel.
URL:https://www.providencechurch.org/event/summer-worship-2-2/2025-08-31/
LOCATION:Providence Presbyterian Church\, 9019 Little River Turnpike\, Fairfax\, VA\, 22031
ATTACH;FMTTYPE=image/png:https://www.providencechurch.org/wp-content/uploads/2025/04/Summer-Worship-event-2.png
END:VEVENT
BEGIN:VEVENT
DTSTART;TZID=America/New_York:20250824T100000
DTEND;TZID=America/New_York:20250824T110000
DTSTAMP:20260421T063831
CREATED:20250428T195424Z
LAST-MODIFIED:20250428T200642Z
UID:10001571-1756029600-1756033200@www.providencechurch.org
SUMMARY:Summer Worship 2025
DESCRIPTION:Join us in the Sanctuary for Summer Worship on Sundays at 10:00 am. The service is also live streamed on our YouTube Channel.
URL:https://www.providencechurch.org/event/summer-worship-2/2025-08-24/
LOCATION:Providence Presbyterian Church\, 9019 Little River Turnpike\, Fairfax\, VA\, 22031
ATTACH;FMTTYPE=image/png:https://www.providencechurch.org/wp-content/uploads/2025/04/Summer-Worship-event-2.png
END:VEVENT
BEGIN:VEVENT
DTSTART;TZID=America/New_York:20250817T100000
DTEND;TZID=America/New_York:20250817T110000
DTSTAMP:20260421T063831
CREATED:20250428T195424Z
LAST-MODIFIED:20250428T200642Z
UID:10001570-1755424800-1755428400@www.providencechurch.org
SUMMARY:Summer Worship 2025
DESCRIPTION:Join us in the Sanctuary for Summer Worship on Sundays at 10:00 am. The service is also live streamed on our YouTube Channel.
URL:https://www.providencechurch.org/event/summer-worship-2/2025-08-17/
LOCATION:Providence Presbyterian Church\, 9019 Little River Turnpike\, Fairfax\, VA\, 22031
ATTACH;FMTTYPE=image/png:https://www.providencechurch.org/wp-content/uploads/2025/04/Summer-Worship-event-2.png
END:VEVENT
BEGIN:VEVENT
DTSTART;TZID=America/New_York:20250810T100000
DTEND;TZID=America/New_York:20250810T110000
DTSTAMP:20260421T063831
CREATED:20250428T195424Z
LAST-MODIFIED:20250428T200642Z
UID:10001569-1754820000-1754823600@www.providencechurch.org
SUMMARY:Summer Worship 2025
DESCRIPTION:Join us in the Sanctuary for Summer Worship on Sundays at 10:00 am. The service is also live streamed on our YouTube Channel.
URL:https://www.providencechurch.org/event/summer-worship-2/2025-08-10/
LOCATION:Providence Presbyterian Church\, 9019 Little River Turnpike\, Fairfax\, VA\, 22031
ATTACH;FMTTYPE=image/png:https://www.providencechurch.org/wp-content/uploads/2025/04/Summer-Worship-event-2.png
END:VEVENT
BEGIN:VEVENT
DTSTART;TZID=America/New_York:20250804T170000
DTEND;TZID=America/New_York:20250804T190000
DTSTAMP:20260421T063831
CREATED:20250731T173618Z
LAST-MODIFIED:20250731T173618Z
UID:10001583-1754326800-1754334000@www.providencechurch.org
SUMMARY:Food Truck Hangout
DESCRIPTION:In Taylor Hall  (to beat the heat)! \nChutney Mary’s:\nSpecializing in Unique Fusion Cuisine
URL:https://www.providencechurch.org/event/food-truck-hangout-3/
LOCATION:Providence Presbyterian Church\, 9019 Little River Turnpike\, Fairfax\, VA\, 22031
ATTACH;FMTTYPE=image/png:https://www.providencechurch.org/wp-content/uploads/2025/07/6-Food-Truck.png
END:VEVENT
BEGIN:VEVENT
DTSTART;TZID=America/New_York:20250803T100000
DTEND;TZID=America/New_York:20250803T110000
DTSTAMP:20260421T063831
CREATED:20250428T195424Z
LAST-MODIFIED:20250428T200642Z
UID:10001568-1754215200-1754218800@www.providencechurch.org
SUMMARY:Summer Worship 2025
DESCRIPTION:Join us in the Sanctuary for Summer Worship on Sundays at 10:00 am. The service is also live streamed on our YouTube Channel.
URL:https://www.providencechurch.org/event/summer-worship-2/2025-08-03/
LOCATION:Providence Presbyterian Church\, 9019 Little River Turnpike\, Fairfax\, VA\, 22031
ATTACH;FMTTYPE=image/png:https://www.providencechurch.org/wp-content/uploads/2025/04/Summer-Worship-event-2.png
END:VEVENT
END:VCALENDAR