BEGIN:VCALENDAR
VERSION:2.0
PRODID:-//Providence Presbyterian Church - ECPv6.15.18//NONSGML v1.0//EN
CALSCALE:GREGORIAN
METHOD:PUBLISH
X-ORIGINAL-URL:https://www.providencechurch.org
X-WR-CALDESC:Events for Providence Presbyterian Church
REFRESH-INTERVAL;VALUE=DURATION:PT1H
X-Robots-Tag:noindex
X-PUBLISHED-TTL:PT1H
BEGIN:VTIMEZONE
TZID:America/New_York
BEGIN:DAYLIGHT
TZOFFSETFROM:-0500
TZOFFSETTO:-0400
TZNAME:EDT
DTSTART:20250309T070000
END:DAYLIGHT
BEGIN:STANDARD
TZOFFSETFROM:-0400
TZOFFSETTO:-0500
TZNAME:EST
DTSTART:20251102T060000
END:STANDARD
BEGIN:DAYLIGHT
TZOFFSETFROM:-0500
TZOFFSETTO:-0400
TZNAME:EDT
DTSTART:20260308T070000
END:DAYLIGHT
BEGIN:STANDARD
TZOFFSETFROM:-0400
TZOFFSETTO:-0500
TZNAME:EST
DTSTART:20261101T060000
END:STANDARD
BEGIN:DAYLIGHT
TZOFFSETFROM:-0500
TZOFFSETTO:-0400
TZNAME:EDT
DTSTART:20270314T070000
END:DAYLIGHT
BEGIN:STANDARD
TZOFFSETFROM:-0400
TZOFFSETTO:-0500
TZNAME:EST
DTSTART:20271107T060000
END:STANDARD
END:VTIMEZONE
BEGIN:VEVENT
DTSTART;TZID=America/New_York:20260222T100000
DTEND;TZID=America/New_York:20260222T110000
DTSTAMP:20260420T105047
CREATED:20250829T153614Z
LAST-MODIFIED:20260330T194635Z
UID:10001613-1771754400-1771758000@www.providencechurch.org
SUMMARY:Traditional Worship
DESCRIPTION:Join us in the Sanctuary for our Traditional worship service on Sundays at 10:00 am. Most Sundays\, music is provided by our Sanctuary Choir. The service is also live streamed through our YouTube channel.
URL:https://www.providencechurch.org/event/traditional-worship-2024-25-copy/2026-02-22/
CATEGORIES:Featured Event,Live,Worship
ATTACH;FMTTYPE=image/png:https://www.providencechurch.org/wp-content/uploads/2022/09/Traditional-image.png
END:VEVENT
BEGIN:VEVENT
DTSTART;TZID=America/New_York:20260222T111500
DTEND;TZID=America/New_York:20260222T121500
DTSTAMP:20260420T105047
CREATED:20250829T153831Z
LAST-MODIFIED:20250904T150737Z
UID:10001650-1771758900-1771762500@www.providencechurch.org
SUMMARY:Contemporary Worship
DESCRIPTION:Join us in Taylor Hall for our Contemporary worship service on Sundays at 11:15 am. Most Sundays\, music is provided by our Worship Band. The service is also live streamed through our YouTube channel.
URL:https://www.providencechurch.org/event/contemporary-worship-2-copy/2026-02-22/
CATEGORIES:Featured Event,Live,Worship
ATTACH;FMTTYPE=image/png:https://www.providencechurch.org/wp-content/uploads/2022/09/Contemporary-image.png
END:VEVENT
BEGIN:VEVENT
DTSTART;TZID=America/New_York:20260301T100000
DTEND;TZID=America/New_York:20260301T110000
DTSTAMP:20260420T105047
CREATED:20250829T153614Z
LAST-MODIFIED:20260330T194635Z
UID:10001614-1772359200-1772362800@www.providencechurch.org
SUMMARY:Traditional Worship
DESCRIPTION:Join us in the Sanctuary for our Traditional worship service on Sundays at 10:00 am. Most Sundays\, music is provided by our Sanctuary Choir. The service is also live streamed through our YouTube channel.
URL:https://www.providencechurch.org/event/traditional-worship-2024-25-copy/2026-03-01/
CATEGORIES:Featured Event,Live,Worship
ATTACH;FMTTYPE=image/png:https://www.providencechurch.org/wp-content/uploads/2022/09/Traditional-image.png
END:VEVENT
BEGIN:VEVENT
DTSTART;TZID=America/New_York:20260301T111500
DTEND;TZID=America/New_York:20260301T121500
DTSTAMP:20260420T105047
CREATED:20250829T153831Z
LAST-MODIFIED:20250904T150737Z
UID:10001651-1772363700-1772367300@www.providencechurch.org
SUMMARY:Contemporary Worship
DESCRIPTION:Join us in Taylor Hall for our Contemporary worship service on Sundays at 11:15 am. Most Sundays\, music is provided by our Worship Band. The service is also live streamed through our YouTube channel.
URL:https://www.providencechurch.org/event/contemporary-worship-2-copy/2026-03-01/
CATEGORIES:Featured Event,Live,Worship
ATTACH;FMTTYPE=image/png:https://www.providencechurch.org/wp-content/uploads/2022/09/Contemporary-image.png
END:VEVENT
BEGIN:VEVENT
DTSTART;TZID=America/New_York:20260308T100000
DTEND;TZID=America/New_York:20260308T110000
DTSTAMP:20260420T105047
CREATED:20250829T153614Z
LAST-MODIFIED:20260330T194635Z
UID:10001615-1772964000-1772967600@www.providencechurch.org
SUMMARY:Traditional Worship
DESCRIPTION:Join us in the Sanctuary for our Traditional worship service on Sundays at 10:00 am. Most Sundays\, music is provided by our Sanctuary Choir. The service is also live streamed through our YouTube channel.
URL:https://www.providencechurch.org/event/traditional-worship-2024-25-copy/2026-03-08/
CATEGORIES:Featured Event,Live,Worship
ATTACH;FMTTYPE=image/png:https://www.providencechurch.org/wp-content/uploads/2022/09/Traditional-image.png
END:VEVENT
BEGIN:VEVENT
DTSTART;TZID=America/New_York:20260308T111500
DTEND;TZID=America/New_York:20260308T121500
DTSTAMP:20260420T105047
CREATED:20250829T153831Z
LAST-MODIFIED:20250904T150737Z
UID:10001652-1772968500-1772972100@www.providencechurch.org
SUMMARY:Contemporary Worship
DESCRIPTION:Join us in Taylor Hall for our Contemporary worship service on Sundays at 11:15 am. Most Sundays\, music is provided by our Worship Band. The service is also live streamed through our YouTube channel.
URL:https://www.providencechurch.org/event/contemporary-worship-2-copy/2026-03-08/
CATEGORIES:Featured Event,Live,Worship
ATTACH;FMTTYPE=image/png:https://www.providencechurch.org/wp-content/uploads/2022/09/Contemporary-image.png
END:VEVENT
BEGIN:VEVENT
DTSTART;TZID=America/New_York:20260315T100000
DTEND;TZID=America/New_York:20260315T110000
DTSTAMP:20260420T105047
CREATED:20250829T153614Z
LAST-MODIFIED:20260330T194635Z
UID:10001616-1773568800-1773572400@www.providencechurch.org
SUMMARY:Traditional Worship
DESCRIPTION:Join us in the Sanctuary for our Traditional worship service on Sundays at 10:00 am. Most Sundays\, music is provided by our Sanctuary Choir. The service is also live streamed through our YouTube channel.
URL:https://www.providencechurch.org/event/traditional-worship-2024-25-copy/2026-03-15/
CATEGORIES:Featured Event,Live,Worship
ATTACH;FMTTYPE=image/png:https://www.providencechurch.org/wp-content/uploads/2022/09/Traditional-image.png
END:VEVENT
BEGIN:VEVENT
DTSTART;TZID=America/New_York:20260315T111500
DTEND;TZID=America/New_York:20260315T121500
DTSTAMP:20260420T105047
CREATED:20250829T153831Z
LAST-MODIFIED:20250904T150737Z
UID:10001653-1773573300-1773576900@www.providencechurch.org
SUMMARY:Contemporary Worship
DESCRIPTION:Join us in Taylor Hall for our Contemporary worship service on Sundays at 11:15 am. Most Sundays\, music is provided by our Worship Band. The service is also live streamed through our YouTube channel.
URL:https://www.providencechurch.org/event/contemporary-worship-2-copy/2026-03-15/
CATEGORIES:Featured Event,Live,Worship
ATTACH;FMTTYPE=image/png:https://www.providencechurch.org/wp-content/uploads/2022/09/Contemporary-image.png
END:VEVENT
BEGIN:VEVENT
DTSTART;TZID=America/New_York:20260320T120000
DTEND;TZID=America/New_York:20260320T150000
DTSTAMP:20260420T105047
CREATED:20260129T193529Z
LAST-MODIFIED:20260224T191729Z
UID:10001821-1774008000-1774018800@www.providencechurch.org
SUMMARY:Rummage Sale PreSale
DESCRIPTION:Rummage Sale March 21\, 8am-1pm\nPreSale March 20\, 12pm-3pm\, $5 to enter!\nJoin us for our HUGE Rummage Sale! All proceeds go to Next Generation Ministry at Providence!\nDonations will be accepted:\nWe will begin accepting donations following worship (~12:15pm) on Sunday March 15th.\nSunday March 15\, 12:15-7:00pm\nMonday March 16- Wednesday March 18\, 10am-7:30pm\nDonations will NOT be accepted on Thursday March 19\, Friday March 20\, or Saturday March 21.\nDonations NOT accepted or have size limitations 2026:\nExercise equipment\, VHS Tapes\, Tube TV’s\, Headboards\, China Cabinets\, Large Entertainment Centers\, Bed pillows\, Mattresses\, Expired car seats\, Incomplete games/puzzles\, Unpackaged underwear\, Tables larger than 60”\, Couches larger than 84”
URL:https://www.providencechurch.org/event/rummage-sale-presale-2/
CATEGORIES:Featured Event,Live,Next Gen
ATTACH;FMTTYPE=image/png:https://www.providencechurch.org/wp-content/uploads/2026/01/2.png
END:VEVENT
BEGIN:VEVENT
DTSTART;TZID=America/New_York:20260321T080000
DTEND;TZID=America/New_York:20260321T130000
DTSTAMP:20260420T105047
CREATED:20260129T193423Z
LAST-MODIFIED:20260224T191643Z
UID:10001820-1774080000-1774098000@www.providencechurch.org
SUMMARY:Rummage Sale
DESCRIPTION:Rummage Sale March 21\, 8am-1pm\nPreSale March 20\, 12pm-3pm\, $5 to enter!\nJoin us for our HUGE Rummage Sale! All proceeds go to Next Generation Ministry at Providence!\nDonations will be accepted:\nWe will begin accepting donations following worship (~12:15pm) on Sunday March 15th.\nSunday March 15\, 12:15-7:00pm\nMonday March 16- Wednesday March 18\, 10am-7:30pm\nDonations will NOT be accepted on Thursday March 19\, Friday March 20\, or Saturday March 21.\nDonations NOT accepted or have size limitations 2026:\nExercise equipment\, VHS Tapes\, Tube TV’s\, Headboards\, China Cabinets\, Large Entertainment Centers\, Bed pillows\, Mattresses\, Expired car seats\, Incomplete games/puzzles\, Unpackaged underwear\, Tables larger than 60”\, Couches larger than 84”
URL:https://www.providencechurch.org/event/rummage-sale-7/
CATEGORIES:Featured Event,Live,Next Gen
ATTACH;FMTTYPE=image/png:https://www.providencechurch.org/wp-content/uploads/2026/01/1.png
END:VEVENT
BEGIN:VEVENT
DTSTART;TZID=America/New_York:20260322T100000
DTEND;TZID=America/New_York:20260322T110000
DTSTAMP:20260420T105047
CREATED:20250829T153614Z
LAST-MODIFIED:20260330T194635Z
UID:10001617-1774173600-1774177200@www.providencechurch.org
SUMMARY:Traditional Worship
DESCRIPTION:Join us in the Sanctuary for our Traditional worship service on Sundays at 10:00 am. Most Sundays\, music is provided by our Sanctuary Choir. The service is also live streamed through our YouTube channel.
URL:https://www.providencechurch.org/event/traditional-worship-2024-25-copy/2026-03-22/
CATEGORIES:Featured Event,Live,Worship
ATTACH;FMTTYPE=image/png:https://www.providencechurch.org/wp-content/uploads/2022/09/Traditional-image.png
END:VEVENT
BEGIN:VEVENT
DTSTART;TZID=America/New_York:20260322T111500
DTEND;TZID=America/New_York:20260322T121500
DTSTAMP:20260420T105047
CREATED:20250829T153831Z
LAST-MODIFIED:20250904T150737Z
UID:10001654-1774178100-1774181700@www.providencechurch.org
SUMMARY:Contemporary Worship
DESCRIPTION:Join us in Taylor Hall for our Contemporary worship service on Sundays at 11:15 am. Most Sundays\, music is provided by our Worship Band. The service is also live streamed through our YouTube channel.
URL:https://www.providencechurch.org/event/contemporary-worship-2-copy/2026-03-22/
CATEGORIES:Featured Event,Live,Worship
ATTACH;FMTTYPE=image/png:https://www.providencechurch.org/wp-content/uploads/2022/09/Contemporary-image.png
END:VEVENT
BEGIN:VEVENT
DTSTART;TZID=America/New_York:20260329T100000
DTEND;TZID=America/New_York:20260329T110000
DTSTAMP:20260420T105047
CREATED:20250829T153614Z
LAST-MODIFIED:20260330T194635Z
UID:10001618-1774778400-1774782000@www.providencechurch.org
SUMMARY:Traditional Worship
DESCRIPTION:Join us in the Sanctuary for our Traditional worship service on Sundays at 10:00 am. Most Sundays\, music is provided by our Sanctuary Choir. The service is also live streamed through our YouTube channel.
URL:https://www.providencechurch.org/event/traditional-worship-2024-25-copy/2026-03-29/
CATEGORIES:Featured Event,Live,Worship
ATTACH;FMTTYPE=image/png:https://www.providencechurch.org/wp-content/uploads/2022/09/Traditional-image.png
END:VEVENT
BEGIN:VEVENT
DTSTART;TZID=America/New_York:20260329T111500
DTEND;TZID=America/New_York:20260329T121500
DTSTAMP:20260420T105047
CREATED:20250829T153831Z
LAST-MODIFIED:20250904T150737Z
UID:10001655-1774782900-1774786500@www.providencechurch.org
SUMMARY:Contemporary Worship
DESCRIPTION:Join us in Taylor Hall for our Contemporary worship service on Sundays at 11:15 am. Most Sundays\, music is provided by our Worship Band. The service is also live streamed through our YouTube channel.
URL:https://www.providencechurch.org/event/contemporary-worship-2-copy/2026-03-29/
CATEGORIES:Featured Event,Live,Worship
ATTACH;FMTTYPE=image/png:https://www.providencechurch.org/wp-content/uploads/2022/09/Contemporary-image.png
END:VEVENT
BEGIN:VEVENT
DTSTART;TZID=America/New_York:20260410T070000
DTEND;TZID=America/New_York:20260412T200000
DTSTAMP:20260420T105047
CREATED:20260129T194549Z
LAST-MODIFIED:20260129T194549Z
UID:10001824-1775804400-1776024000@www.providencechurch.org
SUMMARY:Youth Beach Retreat
DESCRIPTION:WE’RE GOING TO THE BEACH! \n7th-12th graders are invited to join us for a Beach Retreat\, April 10-12\, 2026! \nCost $250. Registration closes March 1st at 11:59pm.
URL:https://www.providencechurch.org/event/youth-beach-retreat-3/
CATEGORIES:Featured Event,Live,Next Gen
ATTACH;FMTTYPE=image/png:https://www.providencechurch.org/wp-content/uploads/2026/01/Beach-Retreat-2026.png
END:VEVENT
BEGIN:VEVENT
DTSTART;TZID=America/New_York:20260412T100000
DTEND;TZID=America/New_York:20260412T110000
DTSTAMP:20260420T105047
CREATED:20250829T153614Z
LAST-MODIFIED:20260330T194635Z
UID:10001620-1775988000-1775991600@www.providencechurch.org
SUMMARY:Traditional Worship
DESCRIPTION:Join us in the Sanctuary for our Traditional worship service on Sundays at 10:00 am. Most Sundays\, music is provided by our Sanctuary Choir. The service is also live streamed through our YouTube channel.
URL:https://www.providencechurch.org/event/traditional-worship-2024-25-copy/2026-04-12/
CATEGORIES:Featured Event,Live,Worship
ATTACH;FMTTYPE=image/png:https://www.providencechurch.org/wp-content/uploads/2022/09/Traditional-image.png
END:VEVENT
BEGIN:VEVENT
DTSTART;TZID=America/New_York:20260412T111500
DTEND;TZID=America/New_York:20260412T121500
DTSTAMP:20260420T105047
CREATED:20250829T153831Z
LAST-MODIFIED:20250904T150737Z
UID:10001657-1775992500-1775996100@www.providencechurch.org
SUMMARY:Contemporary Worship
DESCRIPTION:Join us in Taylor Hall for our Contemporary worship service on Sundays at 11:15 am. Most Sundays\, music is provided by our Worship Band. The service is also live streamed through our YouTube channel.
URL:https://www.providencechurch.org/event/contemporary-worship-2-copy/2026-04-12/
CATEGORIES:Featured Event,Live,Worship
ATTACH;FMTTYPE=image/png:https://www.providencechurch.org/wp-content/uploads/2022/09/Contemporary-image.png
END:VEVENT
BEGIN:VEVENT
DTSTART;TZID=America/New_York:20260419T100000
DTEND;TZID=America/New_York:20260419T110000
DTSTAMP:20260420T105047
CREATED:20250829T153614Z
LAST-MODIFIED:20260330T194635Z
UID:10001621-1776592800-1776596400@www.providencechurch.org
SUMMARY:Traditional Worship
DESCRIPTION:Join us in the Sanctuary for our Traditional worship service on Sundays at 10:00 am. Most Sundays\, music is provided by our Sanctuary Choir. The service is also live streamed through our YouTube channel.
URL:https://www.providencechurch.org/event/traditional-worship-2024-25-copy/2026-04-19/
CATEGORIES:Featured Event,Live,Worship
ATTACH;FMTTYPE=image/png:https://www.providencechurch.org/wp-content/uploads/2022/09/Traditional-image.png
END:VEVENT
BEGIN:VEVENT
DTSTART;TZID=America/New_York:20260419T111500
DTEND;TZID=America/New_York:20260419T121500
DTSTAMP:20260420T105047
CREATED:20250829T153831Z
LAST-MODIFIED:20250904T150737Z
UID:10001658-1776597300-1776600900@www.providencechurch.org
SUMMARY:Contemporary Worship
DESCRIPTION:Join us in Taylor Hall for our Contemporary worship service on Sundays at 11:15 am. Most Sundays\, music is provided by our Worship Band. The service is also live streamed through our YouTube channel.
URL:https://www.providencechurch.org/event/contemporary-worship-2-copy/2026-04-19/
CATEGORIES:Featured Event,Live,Worship
ATTACH;FMTTYPE=image/png:https://www.providencechurch.org/wp-content/uploads/2022/09/Contemporary-image.png
END:VEVENT
BEGIN:VEVENT
DTSTART;TZID=America/New_York:20260426T100000
DTEND;TZID=America/New_York:20260426T110000
DTSTAMP:20260420T105047
CREATED:20250829T153614Z
LAST-MODIFIED:20260330T194635Z
UID:10001622-1777197600-1777201200@www.providencechurch.org
SUMMARY:Traditional Worship
DESCRIPTION:Join us in the Sanctuary for our Traditional worship service on Sundays at 10:00 am. Most Sundays\, music is provided by our Sanctuary Choir. The service is also live streamed through our YouTube channel.
URL:https://www.providencechurch.org/event/traditional-worship-2024-25-copy/2026-04-26/
CATEGORIES:Featured Event,Live,Worship
ATTACH;FMTTYPE=image/png:https://www.providencechurch.org/wp-content/uploads/2022/09/Traditional-image.png
END:VEVENT
BEGIN:VEVENT
DTSTART;TZID=America/New_York:20260426T111500
DTEND;TZID=America/New_York:20260426T121500
DTSTAMP:20260420T105047
CREATED:20250829T153831Z
LAST-MODIFIED:20250904T150737Z
UID:10001659-1777202100-1777205700@www.providencechurch.org
SUMMARY:Contemporary Worship
DESCRIPTION:Join us in Taylor Hall for our Contemporary worship service on Sundays at 11:15 am. Most Sundays\, music is provided by our Worship Band. The service is also live streamed through our YouTube channel.
URL:https://www.providencechurch.org/event/contemporary-worship-2-copy/2026-04-26/
CATEGORIES:Featured Event,Live,Worship
ATTACH;FMTTYPE=image/png:https://www.providencechurch.org/wp-content/uploads/2022/09/Contemporary-image.png
END:VEVENT
BEGIN:VEVENT
DTSTART;TZID=America/New_York:20260503T100000
DTEND;TZID=America/New_York:20260503T110000
DTSTAMP:20260420T105047
CREATED:20250829T153614Z
LAST-MODIFIED:20260330T194635Z
UID:10001623-1777802400-1777806000@www.providencechurch.org
SUMMARY:Traditional Worship
DESCRIPTION:Join us in the Sanctuary for our Traditional worship service on Sundays at 10:00 am. Most Sundays\, music is provided by our Sanctuary Choir. The service is also live streamed through our YouTube channel.
URL:https://www.providencechurch.org/event/traditional-worship-2024-25-copy/2026-05-03/
CATEGORIES:Featured Event,Live,Worship
ATTACH;FMTTYPE=image/png:https://www.providencechurch.org/wp-content/uploads/2022/09/Traditional-image.png
END:VEVENT
BEGIN:VEVENT
DTSTART;TZID=America/New_York:20260503T111500
DTEND;TZID=America/New_York:20260503T121500
DTSTAMP:20260420T105047
CREATED:20250829T153831Z
LAST-MODIFIED:20250904T150737Z
UID:10001660-1777806900-1777810500@www.providencechurch.org
SUMMARY:Contemporary Worship
DESCRIPTION:Join us in Taylor Hall for our Contemporary worship service on Sundays at 11:15 am. Most Sundays\, music is provided by our Worship Band. The service is also live streamed through our YouTube channel.
URL:https://www.providencechurch.org/event/contemporary-worship-2-copy/2026-05-03/
CATEGORIES:Featured Event,Live,Worship
ATTACH;FMTTYPE=image/png:https://www.providencechurch.org/wp-content/uploads/2022/09/Contemporary-image.png
END:VEVENT
BEGIN:VEVENT
DTSTART;TZID=America/New_York:20260510T100000
DTEND;TZID=America/New_York:20260510T110000
DTSTAMP:20260420T105047
CREATED:20250829T153614Z
LAST-MODIFIED:20260330T194635Z
UID:10001624-1778407200-1778410800@www.providencechurch.org
SUMMARY:Traditional Worship
DESCRIPTION:Join us in the Sanctuary for our Traditional worship service on Sundays at 10:00 am. Most Sundays\, music is provided by our Sanctuary Choir. The service is also live streamed through our YouTube channel.
URL:https://www.providencechurch.org/event/traditional-worship-2024-25-copy/2026-05-10/
CATEGORIES:Featured Event,Live,Worship
ATTACH;FMTTYPE=image/png:https://www.providencechurch.org/wp-content/uploads/2022/09/Traditional-image.png
END:VEVENT
BEGIN:VEVENT
DTSTART;TZID=America/New_York:20260510T111500
DTEND;TZID=America/New_York:20260510T121500
DTSTAMP:20260420T105047
CREATED:20250829T153831Z
LAST-MODIFIED:20250904T150737Z
UID:10001661-1778411700-1778415300@www.providencechurch.org
SUMMARY:Contemporary Worship
DESCRIPTION:Join us in Taylor Hall for our Contemporary worship service on Sundays at 11:15 am. Most Sundays\, music is provided by our Worship Band. The service is also live streamed through our YouTube channel.
URL:https://www.providencechurch.org/event/contemporary-worship-2-copy/2026-05-10/
CATEGORIES:Featured Event,Live,Worship
ATTACH;FMTTYPE=image/png:https://www.providencechurch.org/wp-content/uploads/2022/09/Contemporary-image.png
END:VEVENT
BEGIN:VEVENT
DTSTART;TZID=America/New_York:20260517T100000
DTEND;TZID=America/New_York:20260517T110000
DTSTAMP:20260420T105047
CREATED:20250829T153614Z
LAST-MODIFIED:20260330T194635Z
UID:10001625-1779012000-1779015600@www.providencechurch.org
SUMMARY:Traditional Worship
DESCRIPTION:Join us in the Sanctuary for our Traditional worship service on Sundays at 10:00 am. Most Sundays\, music is provided by our Sanctuary Choir. The service is also live streamed through our YouTube channel.
URL:https://www.providencechurch.org/event/traditional-worship-2024-25-copy/2026-05-17/
CATEGORIES:Featured Event,Live,Worship
ATTACH;FMTTYPE=image/png:https://www.providencechurch.org/wp-content/uploads/2022/09/Traditional-image.png
END:VEVENT
BEGIN:VEVENT
DTSTART;TZID=America/New_York:20260517T111500
DTEND;TZID=America/New_York:20260517T121500
DTSTAMP:20260420T105047
CREATED:20250829T153831Z
LAST-MODIFIED:20250904T150737Z
UID:10001662-1779016500-1779020100@www.providencechurch.org
SUMMARY:Contemporary Worship
DESCRIPTION:Join us in Taylor Hall for our Contemporary worship service on Sundays at 11:15 am. Most Sundays\, music is provided by our Worship Band. The service is also live streamed through our YouTube channel.
URL:https://www.providencechurch.org/event/contemporary-worship-2-copy/2026-05-17/
CATEGORIES:Featured Event,Live,Worship
ATTACH;FMTTYPE=image/png:https://www.providencechurch.org/wp-content/uploads/2022/09/Contemporary-image.png
END:VEVENT
BEGIN:VEVENT
DTSTART;TZID=America/New_York:20260709T100000
DTEND;TZID=America/New_York:20260712T150000
DTSTAMP:20260420T105047
CREATED:20260129T194354Z
LAST-MODIFIED:20260129T194354Z
UID:10001823-1783591200-1783868400@www.providencechurch.org
SUMMARY:Massanetta Middle School Conference
DESCRIPTION:
URL:https://www.providencechurch.org/event/massanetta-middle-school-conference-2/
CATEGORIES:Featured Event,Live,Next Gen
ATTACH;FMTTYPE=image/png:https://www.providencechurch.org/wp-content/uploads/2026/01/2-1.png
END:VEVENT
BEGIN:VEVENT
DTSTART;TZID=America/New_York:20260726T080000
DTEND;TZID=America/New_York:20260801T200000
DTSTAMP:20260420T105047
CREATED:20260129T194147Z
LAST-MODIFIED:20260129T194147Z
UID:10001822-1785052800-1785614400@www.providencechurch.org
SUMMARY:Montreat High School Conference
DESCRIPTION:We are attending Montreat this summer the week of\nJuly 26-August 1 (Week 5). Montreat is open to all students 9th grade through graduated seniors. \nPrice: $500  total \nDeposit of $250 due with this registration form to secure spot on or before April 26th.\nFinal payment of $250 due on or before June 1st. \nSibling Discount: $100 off per person if registering 2 or more youth from 1 family. \nScholarshpip of any shape and size avaiable upon request! \nRegistration due by April 12th.
URL:https://www.providencechurch.org/event/montreat-high-school-conference/
CATEGORIES:Featured Event,Live,Next Gen
ATTACH;FMTTYPE=image/png:https://www.providencechurch.org/wp-content/uploads/2026/01/1-1.png
END:VEVENT
END:VCALENDAR